BEGIN:VCALENDAR
VERSION:2.0
PRODID:-//Cultnorth - ECPv6.15.20//NONSGML v1.0//EN
CALSCALE:GREGORIAN
METHOD:PUBLISH
X-ORIGINAL-URL:https://cultnorth.nl
X-WR-CALDESC:Events for Cultnorth
REFRESH-INTERVAL;VALUE=DURATION:PT1H
X-Robots-Tag:noindex
X-PUBLISHED-TTL:PT1H
BEGIN:VTIMEZONE
TZID:Europe/Amsterdam
BEGIN:DAYLIGHT
TZOFFSETFROM:+0100
TZOFFSETTO:+0200
TZNAME:CEST
DTSTART:20210328T010000
END:DAYLIGHT
BEGIN:STANDARD
TZOFFSETFROM:+0200
TZOFFSETTO:+0100
TZNAME:CET
DTSTART:20211031T010000
END:STANDARD
BEGIN:DAYLIGHT
TZOFFSETFROM:+0100
TZOFFSETTO:+0200
TZNAME:CEST
DTSTART:20220327T010000
END:DAYLIGHT
BEGIN:STANDARD
TZOFFSETFROM:+0200
TZOFFSETTO:+0100
TZNAME:CET
DTSTART:20221030T010000
END:STANDARD
BEGIN:DAYLIGHT
TZOFFSETFROM:+0100
TZOFFSETTO:+0200
TZNAME:CEST
DTSTART:20230326T010000
END:DAYLIGHT
BEGIN:STANDARD
TZOFFSETFROM:+0200
TZOFFSETTO:+0100
TZNAME:CET
DTSTART:20231029T010000
END:STANDARD
END:VTIMEZONE
BEGIN:VEVENT
DTSTART;TZID=Europe/Amsterdam:20220617T200000
DTEND;TZID=Europe/Amsterdam:20220617T213000
DTSTAMP:20260419T163146
CREATED:20220603T134031Z
LAST-MODIFIED:20220603T134031Z
UID:1838-1655496000-1655501400@cultnorth.nl
SUMMARY:JA! Toch Dichtbundel Releaseparty
DESCRIPTION:
URL:https://cultnorth.nl/evenement/ja-toch-dichtbundel-releaseparty/
LOCATION:Studiodebakkerij\, Bergweg 283\, Rotterdam\, Zuid-Holland\, 3037EM\, Netherlands
ATTACH;FMTTYPE=image/jpeg:https://cultnorth.nl/wp-content/uploads/2022/06/WhatsApp-Image-2022-05-23-at-4.54.45-PM.jpeg
ORGANIZER;CN="Cult North":MAILTO:info@cultnorth.nl
END:VEVENT
END:VCALENDAR